BEGIN:VCALENDAR
VERSION:2.0
NAME:La Pesse (39)
DESCRIPTION:Les événements prévus à La Pesse, dans le Haut-Jura
PRODID:-//wp-events-plugin.com//7.2.3.1//EN
BEGIN:VEVENT
UID:455@mairie-la-pesse.com
DTSTART:20250128T173000Z
DTEND:20250128T173000Z
DTSTAMP:20250110T090144Z
URL:https://www.mairie-la-pesse.com/evenements/reunion-publique-plan-local-durbanisme-intercommunal/
SUMMARY:Réunion publique Plan local d'urbanisme intercommunal
DESCRIPTION:\nVenez assister à la présentation du projet de Projet d'Aménagement et de Développement Durable (PADD)\, document fondateur du prochain PLUi\, qui fixe ses grandes orientations:\n\n\n\nAFFICHES_REUNION_PLUi_HIVER_2025LB_5Télécharger\n
LOCATION:Salle polyvalente des Bouchoux\, 2 Rue de Très la ville\, Les Bouchoux\, 39370\, France
X-APPLE-STRUCTURED-LOCATION;VALUE=URI;X-ADDRESS=2 Rue de Très la ville\, Les Bouchoux\, 39370\, France;X-APPLE-RADIUS=100;X-TITLE=Salle polyvalente des Bouchoux:geo:0,0
END:VEVENT
END:VCALENDAR