BEGIN:VCALENDAR
VERSION:2.0
NAME:La Pesse (39)
DESCRIPTION:Les événements prévus à La Pesse, dans le Haut-Jura
PRODID:-//wp-events-plugin.com//7.2.3.1//EN
BEGIN:VEVENT
UID:301@mairie-la-pesse.com
DTSTART:20230119T150000Z
DTEND:20230218T190000Z
DTSTAMP:20230117T093312Z
URL:https://www.mairie-la-pesse.com/evenements/recensement-population-insee/
SUMMARY:Recensement population INSEE
DESCRIPTION:\n\nhttps://www.mairie-la-pesse.com/2023/01/recensement-de-la-population-insee-du-19-janvier-au-18-fevrier-2023/\n\n
END:VEVENT
END:VCALENDAR