BEGIN:VCALENDAR
VERSION:2.0
NAME:La Pesse (39)
DESCRIPTION:Les événements prévus à La Pesse, dans le Haut-Jura
PRODID:-//wp-events-plugin.com//7.2.3.1//EN
BEGIN:VEVENT
UID:170@mairie-la-pesse.com
DTSTART:20190831T113000Z
DTEND:20190901T113000Z
DTSTAMP:20190717T112508Z
URL:https://www.mairie-la-pesse.com/evenements/fete-de-la-pesse-2/
SUMMARY:Fête de La Pesse
DESCRIPTION:\n\n
LOCATION:Parking du départ des pistes et sentiers\, 11 rue de l'Épicéa\, La Pesse\, 39370\, France
X-APPLE-STRUCTURED-LOCATION;VALUE=URI;X-ADDRESS=11 rue de l'Épicéa\, La Pesse\, 39370\, France;X-APPLE-RADIUS=100;X-TITLE=Parking du départ des pistes et sentiers:geo:0,0
END:VEVENT
END:VCALENDAR