BEGIN:VCALENDAR
VERSION:2.0
NAME:La Pesse (39)
DESCRIPTION:Les événements prévus à La Pesse, dans le Haut-Jura
PRODID:-//wp-events-plugin.com//7.2.3.1//EN
BEGIN:VEVENT
UID:255@mairie-la-pesse.com
DTSTART:20220612T060000Z
DTEND:20220612T160000Z
DTSTAMP:20220610T125616Z
URL:https://www.mairie-la-pesse.com/evenements/elections-legislatives-1er-tour/
SUMMARY:Elections législatives 1er tour
DESCRIPTION:\nBureau de vote de 8H-18H\n\n\n\nVoir le planning de tenue du bureau dans les actualités\n
END:VEVENT
END:VCALENDAR