BEGIN:VCALENDAR
VERSION:2.0
NAME:La Pesse (39)
DESCRIPTION:Les événements prévus à La Pesse, dans le Haut-Jura
PRODID:-//wp-events-plugin.com//7.2.3.1//EN
BEGIN:VEVENT
UID:420@mairie-la-pesse.com
DTSTART:20240714T060000Z
DTEND:20240714T080000Z
DTSTAMP:20240624T124829Z
URL:https://www.mairie-la-pesse.com/evenements/course-cyclo-lelex-pays-de-gex/
SUMMARY:Course cyclo Lélex-Pays de Gex
DESCRIPTION:\nLa course traversera le village le dimanche 14/07/24 entre 8h et 10h\n\n\n\nLelex-Pays-de-Gex-1Télécharger\n
END:VEVENT
END:VCALENDAR